BEGIN:VCALENDAR
VERSION:2.0
PRODID:-//SyracuseArts.net
METHOD:PUBLISH
BEGIN:VEVENT
UID:20260421120429-syracusearts.net
DTSTAMP:20260421T120429Z
DTSTART:20260425T163000Z
DTEND:20260425T183000Z
SUMMARY:Strides Toward Democracy Film Series: Beneath the Surface: The Storied History of Onondaga Lake\nOnondaga Historical Association\n
LOCATION:Manlius Cinema, 135 E. Seneca St., Manlius
DESCRIPTION:For complete information, visit http://syracusearts.net/calendar/event.cfm?PerfID=155007
URL;VALUE=URI:http://syracusearts.net/calendar/event.cfm?PerfID=155007
END:VEVENT
END:VCALENDAR